BEGIN:VCALENDAR
VERSION:2.0
PRODID:-//Plone.org//NONSGML plone.app.event//EN
X-WR-TIMEZONE:Europe/Vienna
BEGIN:VEVENT
SUMMARY:Veranstaltungstipp: Fest der Freude
DTSTART;TZID=Europe/Vienna:20260508T193000
DTEND;TZID=Europe/Vienna:20260508T223000
DTSTAMP:20260423T142212Z
UID:4b0267d7616a4c42ad548d60dd92679a@www.zhzmelk.at
CONTACT:https://www.festderfreude.at
CREATED:20260423T102918Z
DESCRIPTION:Am 8. Mai\, dem Jahrestag der Befreiung vom Nationalsozialismu
 s\, lädt das Fest der Freude auf den Wiener Heldenplatz ein.\n\nMit Musik
 \, Reden und künstlerischen Beiträgen wird der Opfer des NS-Regimes geda
 cht und die Bedeutung von Demokratie\, Freiheit und Zusammenhalt in den Mi
 ttelpunkt gestellt.\n\nEin Abend des Erinnerns – und ein starkes Zeichen
  für die Gegenwart.
LAST-MODIFIED:20260423T102926Z
LOCATION:Heldenplatz\, Wien
URL:https://www.zhzmelk.at/de/termine/veranstaltungstipp-fest-der-freude
END:VEVENT
BEGIN:VTIMEZONE
TZID:Europe/Vienna
X-LIC-LOCATION:Europe/Vienna
BEGIN:DAYLIGHT
DTSTART:20260329T030000
TZNAME:CEST
TZOFFSETFROM:+0100
TZOFFSETTO:+0200
END:DAYLIGHT
END:VTIMEZONE
END:VCALENDAR
